{
 "documentInfo": {
  "Category": "",
  "Keywords": "Loftmynd 2018",
  "Version": "10.1",
  "Comments": "Loftmynd 2018",
  "AntialiasingMode": "None",
  "Title": "",
  "Author": "",
  "TextAntialiasingMode": "Force",
  "Subject": "Loftmynd 2018"
 },
 "maxImageWidth": 4096,
 "wmtsScaleFactor": 0.00028000000000003521,
 "maxRecordCount": 1000,
 "tileInfo": {
  "lods": [
   {
    "level": 0,
    "scale": 200000,
    "resolution": 52.916772500211671
   },
   {
    "level": 1,
    "scale": 100000,
    "resolution": 26.458386250105836
   },
   {
    "level": 2,
    "scale": 50000,
    "resolution": 13.229193125052918
   },
   {
    "level": 3,
    "scale": 25000,
    "resolution": 6.6145965625264589
   },
   {
    "level": 4,
    "scale": 10000,
    "resolution": 2.6458386250105836
   },
   {
    "level": 5,
    "scale": 5000,
    "resolution": 1.3229193125052918
   },
   {
    "level": 6,
    "scale": 2000,
    "resolution": 0.52916772500211673
   },
   {
    "level": 7,
    "scale": 1000,
    "resolution": 0.26458386250105836
   },
   {
    "level": 8,
    "scale": 500,
    "resolution": 0.13229193125052918
   },
   {
    "level": 9,
    "scale": 200,
    "resolution": 0.052916772500211672
   }
  ],
  "origin": {
   "x": -1000000,
   "y": 2000000
  },
  "format": "JPEG",
  "compressionQuality": 90,
  "rows": 256,
  "dpi": 96,
  "spatialReference": {
   "falseM": -100000,
   "xyTolerance": 0.001,
   "mUnits": 10000,
   "zUnits": 10000,
   "latestWkid": 3057,
   "zTolerance": 0.00020000000000000001,
   "wkid": 3057,
   "xyUnits": 128521884.83285518,
   "mTolerance": 0.00020000000000000001,
   "falseX": -34541500,
   "falseY": -31559400,
   "falseZ": -100000
  },
  "cols": 256
 },
 "description": "",
 "datesInUnknownTimezone": false,
 "supportsQueryDomains": true,
 "units": "esriMeters",
 "maxSelectionCount": 2000,
 "supportedImageFormatTypes": "PNG32,PNG24,PNG,JPG,DIB,TIFF,EMF,PS,PDF,GIF,SVG,SVGZ,BMP",
 "supportsClipping": true,
 "exportTilesAllowed": false,
 "maxImageHeight": 4096,
 "tables": [],
 "hasVersionedData": false,
 "supportsDatumTransformation": true,
 "cimVersion": "3.7.0",
 "supportsQueryDataElements": true,
 "layers": [
  {
   "subLayerIds": null,
   "maxScale": 0,
   "name": "LUKRORTHO.LOFTM_1000M_2018",
   "defaultVisibility": true,
   "id": 0,
   "minScale": 0,
   "supportsDynamicLegends": true,
   "type": "Raster Layer",
   "parentLayerId": -1
  },
  {
   "subLayerIds": null,
   "maxScale": 0,
   "name": "Milliflugsloftmynd 28/7 2012",
   "defaultVisibility": true,
   "id": 1,
   "minScale": 0,
   "supportsDynamicLegends": true,
   "type": "Raster Layer",
   "parentLayerId": -1
  },
  {
   "subLayerIds": null,
   "maxScale": 0,
   "name": "LoftmyndArtal",
   "defaultVisibility": false,
   "id": 2,
   "minScale": 0,
   "supportsDynamicLegends": true,
   "type": "Feature Layer",
   "parentLayerId": -1,
   "geometryType": "esriGeometryPolygon"
  }
 ],
 "mapName": "Layers",
 "minScale": 200000,
 "archivingInfo": {
  "supportsHistoricMoment": false
 },
 "spatialReference": {
  "falseM": -100000,
  "xyTolerance": 0.001,
  "mUnits": 10000,
  "zUnits": 10000,
  "latestWkid": 3057,
  "zTolerance": 0.001,
  "wkid": 3057,
  "xyUnits": 128521884.83285518,
  "mTolerance": 0.001,
  "falseX": -34541500,
  "falseY": -31559400,
  "falseZ": -100000
 },
 "tileImageInfo": {
  "bandCount": 1,
  "lercError": 0,
  "format": "JPEG",
  "compressionQuality": 90
 },
 "fullExtent": {
  "ymin": 391998.79999807902,
  "xmin": 343999.00000023306,
  "ymax": 427000.88530000154,
  "xmax": 384000.68570000259,
  "spatialReference": {
   "falseM": -100000,
   "xyTolerance": 0.001,
   "mUnits": 10000,
   "zUnits": 10000,
   "latestWkid": 3057,
   "zTolerance": 0.001,
   "wkid": 3057,
   "xyUnits": 128521884.83285518,
   "mTolerance": 0.001,
   "falseX": -34541500,
   "falseY": -31559400,
   "falseZ": -100000
  }
 },
 "supportedExtensions": "KmlServer",
 "capabilities": "Map,Query,Data",
 "supportsDynamicLayers": true,
 "maxScale": 200,
 "singleFusedMapCache": true,
 "currentVersion": 12.1,
 "storageInfo": {
  "storageFormat": "esriMapCacheStorageModeCompactV2",
  "packetSize": 128
 },
 "hasBranchVersionedData": false,
 "mapUnits": {
  "uwkid": 9001
 },
 "referenceScale": 0,
 "supportsSpatialFilter": true,
 "supportedQueryFormats": "JSON, geoJSON, PBF",
 "initialExtent": {
  "ymin": 395130.72035737452,
  "xmin": 333017.05401596578,
  "ymax": 421900.13244273223,
  "xmax": 397205.62881506665,
  "spatialReference": {
   "falseM": -100000,
   "xyTolerance": 0.001,
   "mUnits": 10000,
   "zUnits": 10000,
   "latestWkid": 3057,
   "zTolerance": 0.001,
   "wkid": 3057,
   "xyUnits": 128521884.83285518,
   "mTolerance": 0.001,
   "falseX": -34541500,
   "falseY": -31559400,
   "falseZ": -100000
  }
 },
 "serviceDescription": "Loftmynd 2018",
 "copyrightText": "Loftmynd tekin 17/7 2018",
 "supportsTimeRelation": true
}
