{
 "documentInfo": {
  "Category": "",
  "Keywords": "",
  "Version": "3.2.0",
  "Comments": "",
  "AntialiasingMode": "Fast",
  "Title": "Map",
  "Author": "",
  "TextAntialiasingMode": "Force",
  "Subject": ""
 },
 "maxImageWidth": 4096,
 "wmtsScaleFactor": 0.00028000000000003521,
 "maxRecordCount": 2000,
 "tileInfo": {
  "lods": [
   {
    "level": 0,
    "scale": 200000,
    "resolution": 52.916772500211671
   },
   {
    "level": 1,
    "scale": 100000,
    "resolution": 26.458386250105836
   },
   {
    "level": 2,
    "scale": 50000,
    "resolution": 13.229193125052918
   },
   {
    "level": 3,
    "scale": 25000,
    "resolution": 6.6145965625264589
   },
   {
    "level": 4,
    "scale": 10000,
    "resolution": 2.6458386250105836
   },
   {
    "level": 5,
    "scale": 5000,
    "resolution": 1.3229193125052918
   },
   {
    "level": 6,
    "scale": 2000,
    "resolution": 0.52916772500211673
   },
   {
    "level": 7,
    "scale": 1000,
    "resolution": 0.26458386250105836
   },
   {
    "level": 8,
    "scale": 500,
    "resolution": 0.13229193125052918
   }
  ],
  "origin": {
   "x": -1000000,
   "y": 2000000
  },
  "format": "JPEG",
  "compressionQuality": 75,
  "rows": 256,
  "dpi": 96,
  "spatialReference": {
   "falseM": -100000,
   "xyTolerance": 0.001,
   "mUnits": 10000,
   "zUnits": 10000,
   "latestWkid": 3057,
   "zTolerance": 0.001,
   "wkid": 3057,
   "xyUnits": 10000,
   "mTolerance": 0.001,
   "falseX": -34541500,
   "falseY": -31559400,
   "falseZ": -100000
  },
  "cols": 256
 },
 "description": "",
 "datesInUnknownTimezone": false,
 "supportsQueryDomains": true,
 "units": "esriMeters",
 "maxSelectionCount": 2000,
 "supportedImageFormatTypes": "PNG32,PNG24,PNG,JPG,DIB,TIFF,EMF,PS,PDF,GIF,SVG,SVGZ,BMP",
 "supportsClipping": true,
 "exportTilesAllowed": false,
 "maxImageHeight": 4096,
 "tables": [],
 "hasVersionedData": false,
 "supportsDatumTransformation": true,
 "cimVersion": "3.7.0",
 "supportsQueryDataElements": true,
 "layers": [
  {
   "subLayerIds": [
    1
   ],
   "maxScale": 0,
   "name": "DEM",
   "defaultVisibility": true,
   "id": 0,
   "minScale": 0,
   "supportsDynamicLegends": false,
   "type": "Group Layer",
   "parentLayerId": -1
  },
  {
   "subLayerIds": null,
   "maxScale": 0,
   "name": "hbs_hillshade",
   "defaultVisibility": true,
   "id": 1,
   "minScale": 0,
   "supportsDynamicLegends": true,
   "type": "Raster Layer",
   "parentLayerId": 0
  }
 ],
 "mapName": "Hillshade",
 "minScale": 200000,
 "archivingInfo": {
  "supportsHistoricMoment": false
 },
 "spatialReference": {
  "falseM": -100000,
  "xyTolerance": 0.001,
  "mUnits": 10000,
  "zUnits": 10000,
  "latestWkid": 3057,
  "zTolerance": 0.001,
  "wkid": 3057,
  "xyUnits": 10000,
  "mTolerance": 0.001,
  "falseX": -34541500,
  "falseY": -31559400,
  "falseZ": -100000
 },
 "tileImageInfo": {
  "bandCount": 1,
  "lercError": 0,
  "format": "JPEG",
  "compressionQuality": 75
 },
 "fullExtent": {
  "ymin": 388223.99320000003,
  "xmin": 351044.03549999703,
  "ymax": 427315.99320000003,
  "xmax": 383500.03549999703,
  "spatialReference": {
   "falseM": -100000,
   "xyTolerance": 0.001,
   "mUnits": 10000,
   "zUnits": 10000,
   "latestWkid": 3057,
   "zTolerance": 0.001,
   "wkid": 3057,
   "xyUnits": 10000,
   "mTolerance": 0.001,
   "falseX": -34541500,
   "falseY": -31559400,
   "falseZ": -100000
  }
 },
 "supportedExtensions": "",
 "capabilities": "Map,Query,Data",
 "supportsDynamicLayers": false,
 "maxScale": 100,
 "singleFusedMapCache": true,
 "currentVersion": 12.1,
 "storageInfo": {
  "storageFormat": "esriMapCacheStorageModeCompactV2",
  "packetSize": 128
 },
 "resampling": true,
 "hasBranchVersionedData": false,
 "mapUnits": {
  "uwkid": 9001
 },
 "referenceScale": 0,
 "floorAwareMapProperties": {
  "defaultFloorFilterSettings": {
   "isEnabled": true
  }
 },
 "supportsSpatialFilter": true,
 "supportedQueryFormats": "JSON, geoJSON, PBF",
 "datumTransformations": [
  {
   "geoTransforms": [
    {
     "latestWkid": 1952,
     "transformForward": false,
     "wkid": 1952,
     "name": "ISN_1993_To_WGS_1984_1"
    }
   ]
  },
  {
   "geoTransforms": [
    {
     "latestWkid": 1952,
     "transformForward": true,
     "wkid": 1952,
     "name": "ISN_1993_To_WGS_1984_1"
    }
   ]
  }
 ],
 "initialExtent": {
  "ymin": 389490.12423276203,
  "xmin": 342750.52080347395,
  "ymax": 423002.28190032439,
  "xmax": 385724.93475364213,
  "spatialReference": {
   "falseM": -100000,
   "xyTolerance": 0.001,
   "mUnits": 10000,
   "zUnits": 10000,
   "latestWkid": 3057,
   "zTolerance": 0.001,
   "wkid": 3057,
   "xyUnits": 10000,
   "mTolerance": 0.001,
   "falseX": -34541500,
   "falseY": -31559400,
   "falseZ": -100000
  }
 },
 "serviceDescription": "",
 "copyrightText": "",
 "supportsTimeRelation": true
}
