{
 "documentInfo": {
  "Category": "",
  "Keywords": "",
  "Version": "10.1",
  "Comments": "",
  "AntialiasingMode": "None",
  "Title": "timavel_tom_1999",
  "Author": "samsyn",
  "TextAntialiasingMode": "Force",
  "Subject": ""
 },
 "maxImageWidth": 4096,
 "wmtsScaleFactor": 0.00028000000000003521,
 "maxRecordCount": 1000,
 "tileInfo": {
  "lods": [
   {
    "level": 0,
    "scale": 200000,
    "resolution": 52.916772500211671
   },
   {
    "level": 1,
    "scale": 100000,
    "resolution": 26.458386250105836
   },
   {
    "level": 2,
    "scale": 50000,
    "resolution": 13.229193125052918
   },
   {
    "level": 3,
    "scale": 25000,
    "resolution": 6.6145965625264589
   },
   {
    "level": 4,
    "scale": 10000,
    "resolution": 2.6458386250105836
   },
   {
    "level": 5,
    "scale": 5000,
    "resolution": 1.3229193125052918
   },
   {
    "level": 6,
    "scale": 2000,
    "resolution": 0.52916772500211673
   },
   {
    "level": 7,
    "scale": 1000,
    "resolution": 0.26458386250105836
   }
  ],
  "origin": {
   "x": -1000000,
   "y": 2000000
  },
  "format": "JPEG",
  "compressionQuality": 90,
  "rows": 512,
  "dpi": 96,
  "spatialReference": {
   "falseM": -100000,
   "xyTolerance": 0.001,
   "mUnits": 10000,
   "zUnits": 10000,
   "latestWkid": 3057,
   "zTolerance": 0.001,
   "wkid": 3057,
   "xyUnits": 128521884.83285518,
   "mTolerance": 0.001,
   "falseX": -34541500,
   "falseY": -31559400,
   "falseZ": -100000
  },
  "cols": 512
 },
 "description": "",
 "datesInUnknownTimezone": false,
 "supportsQueryDomains": true,
 "units": "esriMeters",
 "maxSelectionCount": 2000,
 "supportedImageFormatTypes": "PNG32,PNG24,PNG,JPG,DIB,TIFF,EMF,PS,PDF,GIF,SVG,SVGZ,BMP",
 "supportsClipping": true,
 "exportTilesAllowed": false,
 "maxImageHeight": 4096,
 "tables": [],
 "hasVersionedData": false,
 "supportsDatumTransformation": true,
 "cimVersion": "3.7.0",
 "supportsQueryDataElements": true,
 "layers": [
  {
   "subLayerIds": null,
   "maxScale": 0,
   "name": "thekjs_svaedi2",
   "defaultVisibility": true,
   "id": 0,
   "minScale": 0,
   "supportsDynamicLegends": true,
   "type": "Feature Layer",
   "parentLayerId": -1,
   "geometryType": "esriGeometryPolygon"
  }
 ],
 "mapName": "Layers",
 "minScale": 0,
 "archivingInfo": {
  "supportsHistoricMoment": false
 },
 "spatialReference": {
  "falseM": -100000,
  "xyTolerance": 0.001,
  "mUnits": 10000,
  "zUnits": 10000,
  "latestWkid": 3057,
  "zTolerance": 0.001,
  "wkid": 3057,
  "xyUnits": 128521884.83285518,
  "mTolerance": 0.001,
  "falseX": -34541500,
  "falseY": -31559400,
  "falseZ": -100000
 },
 "tileImageInfo": {
  "bandCount": 1,
  "lercError": 0,
  "format": "JPEG",
  "compressionQuality": 90
 },
 "fullExtent": {
  "ymin": 388377.4521777425,
  "xmin": 334202.39977184799,
  "ymax": 434282.75232200604,
  "xmax": 393204.60111036431,
  "spatialReference": {
   "falseM": -100000,
   "xyTolerance": 0.001,
   "mUnits": 10000,
   "zUnits": 10000,
   "latestWkid": 3057,
   "zTolerance": 0.001,
   "wkid": 3057,
   "xyUnits": 128521884.83285518,
   "mTolerance": 0.001,
   "falseX": -34541500,
   "falseY": -31559400,
   "falseZ": -100000
  }
 },
 "supportedExtensions": "KmlServer",
 "capabilities": "Map,Query,Data",
 "supportsDynamicLayers": true,
 "maxScale": 0,
 "singleFusedMapCache": true,
 "currentVersion": 12.1,
 "storageInfo": {
  "storageFormat": "esriMapCacheStorageModeCompactV2",
  "packetSize": 128
 },
 "hasBranchVersionedData": false,
 "mapUnits": {
  "uwkid": 9001
 },
 "referenceScale": 0,
 "supportsSpatialFilter": true,
 "supportedQueryFormats": "JSON, geoJSON, PBF",
 "datumTransformations": [
  {
   "geoTransforms": [
    {
     "latestWkid": 1241,
     "transformForward": true,
     "wkid": 108001,
     "name": "NAD_1927_To_NAD_1983_NADCON"
    }
   ]
  },
  {
   "geoTransforms": [
    {
     "latestWkid": 1241,
     "transformForward": false,
     "wkid": 108001,
     "name": "NAD_1927_To_NAD_1983_NADCON"
    }
   ]
  }
 ],
 "initialExtent": {
  "ymin": 424599.75574021629,
  "xmin": 340441.44445262727,
  "ymax": 470545.52932618168,
  "xmax": 398917.88356203778,
  "spatialReference": {
   "falseM": -100000,
   "xyTolerance": 0.001,
   "mUnits": 10000,
   "zUnits": 10000,
   "latestWkid": 3057,
   "zTolerance": 0.001,
   "wkid": 3057,
   "xyUnits": 128521884.83285518,
   "mTolerance": 0.001,
   "falseX": -34541500,
   "falseY": -31559400,
   "falseZ": -100000
  }
 },
 "serviceDescription": "",
 "copyrightText": "",
 "supportsTimeRelation": true
}
